BEGIN:VCALENDAR
VERSION:2.0
PRODID:-//wp-events-plugin.com//7.2.3.1//EN
TZID:Europe/London
X-WR-TIMEZONE:Europe/London
BEGIN:VEVENT
UID:280@abbottsann.com
DTSTART;TZID=Europe/London:20221013T103000
DTEND;TZID=Europe/London:20221013T120000
DTSTAMP:20221009T210918Z
URL:https://www.abbottsann.com/events/w-i-coffee-morning/
SUMMARY:W.I Coffee Morning
DESCRIPTION:Refreshments from £2 open to non-members
CATEGORIES:Community Event
LOCATION:\, \, 
X-APPLE-STRUCTURED-LOCATION;VALUE=URI;X-ADDRESS=\, ;X-APPLE-RADIUS=100;X-TI
 TLE=:geo:0,0
END:VEVENT
BEGIN:VTIMEZONE
TZID:Europe/London
X-LIC-LOCATION:Europe/London
BEGIN:DAYLIGHT
DTSTART:20220327T020000
TZOFFSETFROM:+0000
TZOFFSETTO:+0100
TZNAME:BST
END:DAYLIGHT
END:VTIMEZONE
END:VCALENDAR