BEGIN:VCALENDAR
VERSION:2.0
PRODID:-//wp-events-plugin.com//7.2.3.1//EN
TZID:Europe/London
X-WR-TIMEZONE:Europe/London
BEGIN:VEVENT
UID:279@abbottsann.com
DTSTART;TZID=Europe/London:20221025T103000
DTEND;TZID=Europe/London:20221025T123000
DTSTAMP:20221007T082715Z
URL:https://www.abbottsann.com/events/w-i-halloween-coffee-morning/
SUMMARY:W.I Halloween Coffee Morning
DESCRIPTION:Refreshments\, Themed Raffle\, Competitions and Children's acti
 vities
CATEGORIES:WI
LOCATION:Abbotts Ann War Memorial Hall\, Duck Street\, Abbotts Ann\, Hampsh
 ire\, SP117AZ\, United Kingdom
GEO:51.19161;-1.531056
X-APPLE-STRUCTURED-LOCATION;VALUE=URI;X-ADDRESS=Duck Street\, Abbotts Ann\,
  Hampshire\, SP117AZ\, United Kingdom;X-APPLE-RADIUS=100;X-TITLE=Abbotts A
 nn War Memorial Hall:geo:51.19161,-1.531056
END:VEVENT
BEGIN:VTIMEZONE
TZID:Europe/London
X-LIC-LOCATION:Europe/London
BEGIN:DAYLIGHT
DTSTART:20220327T020000
TZOFFSETFROM:+0000
TZOFFSETTO:+0100
TZNAME:BST
END:DAYLIGHT
END:VTIMEZONE
END:VCALENDAR