BEGIN:VCALENDAR
VERSION:2.0
PRODID:-//wp-events-plugin.com//7.2.3.1//EN
TZID:Europe/London
X-WR-TIMEZONE:Europe/London
BEGIN:VEVENT
UID:2@abbottsann.com
DTSTART;TZID=Europe/London;VALUE=DATE:20140731
DTEND;TZID=Europe/London;VALUE=DATE:20140801
DTSTAMP:20140703T225913Z
URL:https://www.abbottsann.com/events/wi-cooking-demonstration/
SUMMARY:WI Cooking Demonstration
DESCRIPTION:At Waitrose\, Salisbury
LOCATION:Waitrose\, Salisbury\, Churchill Way\, Salisbury\, SP2 7TS\, Unite
 d Kingdom
GEO:51.07328039999999;-1.801474800000051
X-APPLE-STRUCTURED-LOCATION;VALUE=URI;X-ADDRESS=Churchill Way\, Salisbury\,
  SP2 7TS\, United Kingdom;X-APPLE-RADIUS=100;X-TITLE=Waitrose\, Salisbury:
 geo:51.07328039999999,-1.801474800000051
END:VEVENT
BEGIN:VTIMEZONE
TZID:Europe/London
X-LIC-LOCATION:Europe/London
BEGIN:DAYLIGHT
DTSTART:20140330T020000
TZOFFSETFROM:+0000
TZOFFSETTO:+0100
TZNAME:BST
END:DAYLIGHT
END:VTIMEZONE
END:VCALENDAR