BEGIN:VCALENDAR
VERSION:2.0
PRODID:-//wp-events-plugin.com//7.2.3.1//EN
TZID:Europe/London
X-WR-TIMEZONE:Europe/London
BEGIN:VEVENT
UID:155@abbottsann.com
DTSTART;TZID=Europe/London:20161027T190000
DTEND;TZID=Europe/London:20161027T210000
DTSTAMP:20161004T093909Z
URL:https://www.abbottsann.com/events/wi-monthly-meeting-5/
SUMMARY:WI Monthly Meeting
DESCRIPTION:Monthly Meeting - 7.30 p.m. in the Village Hall - Mark Wilson (
 Fabergé)
LOCATION:\, \, 
X-APPLE-STRUCTURED-LOCATION;VALUE=URI;X-ADDRESS=\, ;X-APPLE-RADIUS=100;X-TI
 TLE=:geo:0,0
END:VEVENT
BEGIN:VTIMEZONE
TZID:Europe/London
X-LIC-LOCATION:Europe/London
BEGIN:DAYLIGHT
DTSTART:20160327T020000
TZOFFSETFROM:+0000
TZOFFSETTO:+0100
TZNAME:BST
END:DAYLIGHT
END:VTIMEZONE
END:VCALENDAR