BEGIN:VCALENDAR
VERSION:2.0
PRODID:-//wp-events-plugin.com//7.2.3.1//EN
TZID:Europe/London
X-WR-TIMEZONE:Europe/London
BEGIN:VEVENT
UID:180@abbottsann.com
DTSTART;TZID=Europe/London:20170525T193000
DTEND;TZID=Europe/London:20170525T210000
DTSTAMP:20170508T115731Z
URL:https://www.abbottsann.com/events/wi-monthly-meeting-6/
SUMMARY:WI Monthly Meeting
DESCRIPTION:The monthly meeting of the WI will be held in the Village Hall 
 on 25th May starting at 7:30pm
LOCATION:\, \, 
X-APPLE-STRUCTURED-LOCATION;VALUE=URI;X-ADDRESS=\, ;X-APPLE-RADIUS=100;X-TI
 TLE=:geo:0,0
END:VEVENT
BEGIN:VTIMEZONE
TZID:Europe/London
X-LIC-LOCATION:Europe/London
BEGIN:DAYLIGHT
DTSTART:20170326T020000
TZOFFSETFROM:+0000
TZOFFSETTO:+0100
TZNAME:BST
END:DAYLIGHT
END:VTIMEZONE
END:VCALENDAR