BEGIN:VCALENDAR
VERSION:2.0
PRODID:-//wp-events-plugin.com//7.2.3.1//EN
TZID:Europe/London
X-WR-TIMEZONE:Europe/London
BEGIN:VEVENT
UID:206@abbottsann.com
DTSTART;TZID=Europe/London:20170629T193000
DTEND;TZID=Europe/London:20170629T210000
DTSTAMP:20170531T053027Z
URL:https://www.abbottsann.com/events/wi-monthly-meeting-7/
SUMMARY:WI Monthly Meeting
DESCRIPTION:The WI Monthly Meeting will be held in the Village Hall startin
 g 7:30pm
CATEGORIES:Community Event
LOCATION:\, \, 
X-APPLE-STRUCTURED-LOCATION;VALUE=URI;X-ADDRESS=\, ;X-APPLE-RADIUS=100;X-TI
 TLE=:geo:0,0
END:VEVENT
BEGIN:VTIMEZONE
TZID:Europe/London
X-LIC-LOCATION:Europe/London
BEGIN:DAYLIGHT
DTSTART:20170326T020000
TZOFFSETFROM:+0000
TZOFFSETTO:+0100
TZNAME:BST
END:DAYLIGHT
END:VTIMEZONE
END:VCALENDAR