BEGIN:VCALENDAR
VERSION:2.0
PRODID:-//wp-events-plugin.com//7.2.3.1//EN
TZID:Europe/London
X-WR-TIMEZONE:Europe/London
BEGIN:VEVENT
UID:10@abbottsann.com
DTSTART;TZID=Europe/London:20150129T193000
DTEND;TZID=Europe/London:20150129T193000
DTSTAMP:20140828T124937Z
URL:https://www.abbottsann.com/events/wi-monthly-meeting-your-image/
SUMMARY:WI Monthly Meeting - "Your Image"
DESCRIPTION:“Your Image” – Lynne LucasCompetition - Favourite Scarf.
LOCATION:\, \, 
X-APPLE-STRUCTURED-LOCATION;VALUE=URI;X-ADDRESS=\, ;X-APPLE-RADIUS=100;X-TI
 TLE=:geo:0,0
END:VEVENT
BEGIN:VTIMEZONE
TZID:Europe/London
X-LIC-LOCATION:Europe/London
BEGIN:STANDARD
DTSTART:20141026T010000
TZOFFSETFROM:+0100
TZOFFSETTO:+0000
TZNAME:GMT
END:STANDARD
END:VTIMEZONE
END:VCALENDAR