BEGIN:VCALENDAR
VERSION:2.0
PRODID:-//wp-events-plugin.com//7.2.3.1//EN
TZID:Europe/London
X-WR-TIMEZONE:Europe/London
BEGIN:VEVENT
UID:350@abbottsann.com
DTSTART;TZID=Europe/London:20241117T120000
DTEND;TZID=Europe/London:20241117T160000
DTSTAMP:20241113T114319Z
URL:https://www.abbottsann.com/events/yuletide-fayre/
SUMMARY:Yuletide Fayre
DESCRIPTION:The Abbott’s Ann Yuletide Fayre is back on Sunday 17th Novemb
 er! Our handpicked selection of local artisans are looking forward to welc
 oming you\, there will be children’s crafts and games\, a chance to meet
  the gorgeous alpacas of Barefoot Barns and delicious food from The Focacc
 ia Co. Come along and join in the merriment at this wonderful village even
 t.\n
ATTACH;FMTTYPE=image/jpeg:https://www.abbottsann.com/wp-content/uploads/20
 24/11/Yuletide-Fayre-icon.jpg
CATEGORIES:Nursery School
LOCATION:Abbotts Ann War Memorial Hall\, Duck Street\, Abbotts Ann\, Hampsh
 ire\, SP117AZ\, United Kingdom
GEO:51.19161;-1.531056
X-APPLE-STRUCTURED-LOCATION;VALUE=URI;X-ADDRESS=Duck Street\, Abbotts Ann\,
  Hampshire\, SP117AZ\, United Kingdom;X-APPLE-RADIUS=100;X-TITLE=Abbotts A
 nn War Memorial Hall:geo:51.19161,-1.531056
END:VEVENT
BEGIN:VTIMEZONE
TZID:Europe/London
X-LIC-LOCATION:Europe/London
BEGIN:STANDARD
DTSTART:20241027T010000
TZOFFSETFROM:+0100
TZOFFSETTO:+0000
TZNAME:GMT
END:STANDARD
END:VTIMEZONE
END:VCALENDAR